BEGIN:VCALENDAR
VERSION:2.0
PRODID:-//A3Québec - ECPv6.15.17.1//NONSGML v1.0//EN
CALSCALE:GREGORIAN
METHOD:PUBLISH
X-WR-CALNAME:A3Québec
X-ORIGINAL-URL:https://www.a3quebec.com
X-WR-CALDESC:évènements pour A3Québec
REFRESH-INTERVAL;VALUE=DURATION:PT1H
X-Robots-Tag:noindex
X-PUBLISHED-TTL:PT1H
BEGIN:VTIMEZONE
TZID:America/Toronto
BEGIN:DAYLIGHT
TZOFFSETFROM:-0500
TZOFFSETTO:-0400
TZNAME:EDT
DTSTART:20220313T070000
END:DAYLIGHT
BEGIN:STANDARD
TZOFFSETFROM:-0400
TZOFFSETTO:-0500
TZNAME:EST
DTSTART:20221106T060000
END:STANDARD
BEGIN:DAYLIGHT
TZOFFSETFROM:-0500
TZOFFSETTO:-0400
TZNAME:EDT
DTSTART:20230312T070000
END:DAYLIGHT
BEGIN:STANDARD
TZOFFSETFROM:-0400
TZOFFSETTO:-0500
TZNAME:EST
DTSTART:20231105T060000
END:STANDARD
BEGIN:DAYLIGHT
TZOFFSETFROM:-0500
TZOFFSETTO:-0400
TZNAME:EDT
DTSTART:20240310T070000
END:DAYLIGHT
BEGIN:STANDARD
TZOFFSETFROM:-0400
TZOFFSETTO:-0500
TZNAME:EST
DTSTART:20241103T060000
END:STANDARD
BEGIN:DAYLIGHT
TZOFFSETFROM:-0500
TZOFFSETTO:-0400
TZNAME:EDT
DTSTART:20250309T070000
END:DAYLIGHT
BEGIN:STANDARD
TZOFFSETFROM:-0400
TZOFFSETTO:-0500
TZNAME:EST
DTSTART:20251102T060000
END:STANDARD
BEGIN:DAYLIGHT
TZOFFSETFROM:-0500
TZOFFSETTO:-0400
TZNAME:EDT
DTSTART:20260308T070000
END:DAYLIGHT
BEGIN:STANDARD
TZOFFSETFROM:-0400
TZOFFSETTO:-0500
TZNAME:EST
DTSTART:20261101T060000
END:STANDARD
BEGIN:DAYLIGHT
TZOFFSETFROM:-0500
TZOFFSETTO:-0400
TZNAME:EDT
DTSTART:20270314T070000
END:DAYLIGHT
BEGIN:STANDARD
TZOFFSETFROM:-0400
TZOFFSETTO:-0500
TZNAME:EST
DTSTART:20271107T060000
END:STANDARD
END:VTIMEZONE
BEGIN:VTIMEZONE
TZID:America/New_York
BEGIN:DAYLIGHT
TZOFFSETFROM:-0500
TZOFFSETTO:-0400
TZNAME:EDT
DTSTART:20220313T070000
END:DAYLIGHT
BEGIN:STANDARD
TZOFFSETFROM:-0400
TZOFFSETTO:-0500
TZNAME:EST
DTSTART:20221106T060000
END:STANDARD
BEGIN:DAYLIGHT
TZOFFSETFROM:-0500
TZOFFSETTO:-0400
TZNAME:EDT
DTSTART:20230312T070000
END:DAYLIGHT
BEGIN:STANDARD
TZOFFSETFROM:-0400
TZOFFSETTO:-0500
TZNAME:EST
DTSTART:20231105T060000
END:STANDARD
BEGIN:DAYLIGHT
TZOFFSETFROM:-0500
TZOFFSETTO:-0400
TZNAME:EDT
DTSTART:20240310T070000
END:DAYLIGHT
BEGIN:STANDARD
TZOFFSETFROM:-0400
TZOFFSETTO:-0500
TZNAME:EST
DTSTART:20241103T060000
END:STANDARD
END:VTIMEZONE
BEGIN:VEVENT
DTSTART;VALUE=DATE:20260205
DTEND;VALUE=DATE:20260208
DTSTAMP:20260421T045443
CREATED:20260123T145549Z
LAST-MODIFIED:20260123T145549Z
UID:10000404-1770249600-1770508799@www.a3quebec.com
SUMMARY:Bulles et Whisky
DESCRIPTION:
URL:https://www.a3quebec.com/evenement/bulles-et-whisky-2/
LOCATION:Québec
END:VEVENT
BEGIN:VEVENT
DTSTART;VALUE=DATE:20251025
DTEND;VALUE=DATE:20251027
DTSTAMP:20260421T045443
CREATED:20250915T194327Z
LAST-MODIFIED:20250915T194327Z
UID:10000368-1761350400-1761523199@www.a3quebec.com
SUMMARY:Salon Raspipav (Québec)
DESCRIPTION:
URL:https://www.a3quebec.com/evenement/salon-raspipav-quebec/
LOCATION:Québec
END:VEVENT
BEGIN:VEVENT
DTSTART;VALUE=DATE:20250406
DTEND;VALUE=DATE:20250408
DTSTAMP:20260421T045443
CREATED:20250115T193131Z
LAST-MODIFIED:20250115T193131Z
UID:10000275-1743897600-1744070399@www.a3quebec.com
SUMMARY:Salon Raspipav
DESCRIPTION:
URL:https://www.a3quebec.com/evenement/salon-raspipav/
LOCATION:Québec
END:VEVENT
BEGIN:VEVENT
DTSTART;VALUE=DATE:20250206
DTEND;VALUE=DATE:20250209
DTSTAMP:20260421T045443
CREATED:20241204T185245Z
LAST-MODIFIED:20241204T185245Z
UID:10000251-1738800000-1739059199@www.a3quebec.com
SUMMARY:Bulles et Whisky
DESCRIPTION:
URL:https://www.a3quebec.com/evenement/bulles-et-whisky/
LOCATION:Québec
END:VEVENT
BEGIN:VEVENT
DTSTART;VALUE=DATE:20241104
DTEND;VALUE=DATE:20241105
DTSTAMP:20260421T045443
CREATED:20240923T153921Z
LAST-MODIFIED:20240923T153921Z
UID:10000237-1730678400-1730764799@www.a3quebec.com
SUMMARY:Masterclass et dégustation Beaujolais
DESCRIPTION:
URL:https://www.a3quebec.com/evenement/masterclass-et-degustation-beaujolais/
LOCATION:Québec
END:VEVENT
BEGIN:VEVENT
DTSTART;TZID=America/Toronto:20241022T130000
DTEND;TZID=America/Toronto:20241022T153000
DTSTAMP:20260421T045443
CREATED:20240723T132759Z
LAST-MODIFIED:20240910T192227Z
UID:10000217-1729602000-1729611000@www.a3quebec.com
SUMMARY:Masterclass sur les Vins de Mâcon
DESCRIPTION:Animée par Jacky Blisson
URL:https://www.a3quebec.com/evenement/8699/
LOCATION:Québec
END:VEVENT
BEGIN:VEVENT
DTSTART;VALUE=DATE:20240603
DTEND;VALUE=DATE:20240604
DTSTAMP:20260421T045443
CREATED:20240227T161949Z
LAST-MODIFIED:20240227T161949Z
UID:10000192-1717372800-1717459199@www.a3quebec.com
SUMMARY:Grande dégustation des vins Vinho Verde
DESCRIPTION:
URL:https://www.a3quebec.com/evenement/grande-degustation-des-vins-vinho-verde/
LOCATION:Québec
ORGANIZER;CN="Sopexa Canada":MAILTO:ssarr@hopscotchgroupe.com
END:VEVENT
BEGIN:VEVENT
DTSTART;VALUE=DATE:20240201
DTEND;VALUE=DATE:20240204
DTSTAMP:20260421T045443
CREATED:20231129T140818Z
LAST-MODIFIED:20231129T140818Z
UID:10000140-1706745600-1707004799@www.a3quebec.com
SUMMARY:Bulles Whisky et Gastronomie
DESCRIPTION:
URL:https://www.a3quebec.com/evenement/bulles-whisky-et-gastronomie/
LOCATION:Québec
END:VEVENT
BEGIN:VEVENT
DTSTART;VALUE=DATE:20231120
DTEND;VALUE=DATE:20231121
DTSTAMP:20260421T045443
CREATED:20230922T173707Z
LAST-MODIFIED:20230922T173707Z
UID:10000116-1700438400-1700524799@www.a3quebec.com
SUMMARY:À la découverte des Vignobles de la Vallée du Rhône
DESCRIPTION:
URL:https://www.a3quebec.com/evenement/a-la-decouverte-des-vignobles-de-la-vallee-du-rhone/
LOCATION:Québec
END:VEVENT
BEGIN:VEVENT
DTSTART;VALUE=DATE:20230917
DTEND;VALUE=DATE:20230921
DTSTAMP:20260421T045443
CREATED:20230706T133727Z
LAST-MODIFIED:20230706T134103Z
UID:10000097-1694908800-1695254399@www.a3quebec.com
SUMMARY:Vinexpo Explorer Québec (Distilleries du Québec)
DESCRIPTION:
URL:https://www.a3quebec.com/evenement/vinexpo-explorer-quebec/
LOCATION:Québec
END:VEVENT
END:VCALENDAR