BEGIN:VCALENDAR
VERSION:2.0
PRODID:-//A3Québec - ECPv6.15.17.1//NONSGML v1.0//EN
CALSCALE:GREGORIAN
METHOD:PUBLISH
X-WR-CALNAME:A3Québec
X-ORIGINAL-URL:https://www.a3quebec.com
X-WR-CALDESC:évènements pour A3Québec
REFRESH-INTERVAL;VALUE=DURATION:PT1H
X-Robots-Tag:noindex
X-PUBLISHED-TTL:PT1H
BEGIN:VTIMEZONE
TZID:America/Toronto
BEGIN:DAYLIGHT
TZOFFSETFROM:-0500
TZOFFSETTO:-0400
TZNAME:EDT
DTSTART:20250309T070000
END:DAYLIGHT
BEGIN:STANDARD
TZOFFSETFROM:-0400
TZOFFSETTO:-0500
TZNAME:EST
DTSTART:20251102T060000
END:STANDARD
BEGIN:DAYLIGHT
TZOFFSETFROM:-0500
TZOFFSETTO:-0400
TZNAME:EDT
DTSTART:20260308T070000
END:DAYLIGHT
BEGIN:STANDARD
TZOFFSETFROM:-0400
TZOFFSETTO:-0500
TZNAME:EST
DTSTART:20261101T060000
END:STANDARD
BEGIN:DAYLIGHT
TZOFFSETFROM:-0500
TZOFFSETTO:-0400
TZNAME:EDT
DTSTART:20270314T070000
END:DAYLIGHT
BEGIN:STANDARD
TZOFFSETFROM:-0400
TZOFFSETTO:-0500
TZNAME:EST
DTSTART:20271107T060000
END:STANDARD
END:VTIMEZONE
BEGIN:VEVENT
DTSTART;VALUE=DATE:20260501
DTEND;VALUE=DATE:20260502
DTSTAMP:20260421T043711
CREATED:20260407T125858Z
LAST-MODIFIED:20260407T125858Z
UID:10000436-1777593600-1777679999@www.a3quebec.com
SUMMARY:Lunch et dégustation Bordeaux (pour les agences)
DESCRIPTION:
URL:https://www.a3quebec.com/evenement/lunch-et-degustation-bordeaux-pour-les-agences/
LOCATION:Le Parloir\, Montréal
END:VEVENT
BEGIN:VEVENT
DTSTART;VALUE=DATE:20260504
DTEND;VALUE=DATE:20260505
DTSTAMP:20260421T043711
CREATED:20250721T144054Z
LAST-MODIFIED:20250721T144054Z
UID:10000349-1777852800-1777939199@www.a3quebec.com
SUMMARY:Salon Cartes sur Table (Québec)
DESCRIPTION:
URL:https://www.a3quebec.com/evenement/salon-cartes-sur-table-quebec/
LOCATION:Manege Militaire de Québec
ORGANIZER;CN="A3 Qu%C3%A9bec":MAILTO:info@a3quebec.com
END:VEVENT
BEGIN:VEVENT
DTSTART;VALUE=DATE:20260504
DTEND;VALUE=DATE:20260505
DTSTAMP:20260421T043711
CREATED:20251208T214407Z
LAST-MODIFIED:20251208T214407Z
UID:10000392-1777852800-1777939199@www.a3quebec.com
SUMMARY:Les Lauriers de la Gastronomie Québécoise
DESCRIPTION:
URL:https://www.a3quebec.com/evenement/les-lauriers-de-la-gastronomie-quebecoise/
LOCATION:Centre Pierre-Péladeau\, 300 boul. de Maisonneuve\, Montréal\, Québec\, H2X3X6\, Canada
END:VEVENT
BEGIN:VEVENT
DTSTART;TZID=America/Toronto:20260506T110000
DTEND;TZID=America/Toronto:20260506T160000
DTSTAMP:20260421T043711
CREATED:20260220T212243Z
LAST-MODIFIED:20260316T183150Z
UID:10000430-1778065200-1778083200@www.a3quebec.com
SUMMARY:Tastin France
DESCRIPTION:
URL:https://www.a3quebec.com/evenement/tastin-france/
ORGANIZER;CN="Business France":MAILTO:nicolas.perez@businessfrance.fr
END:VEVENT
BEGIN:VEVENT
DTSTART;VALUE=DATE:20260522
DTEND;VALUE=DATE:20260525
DTSTAMP:20260421T043711
CREATED:20250919T143623Z
LAST-MODIFIED:20251208T214737Z
UID:10000371-1779408000-1779667199@www.a3quebec.com
SUMMARY:F1 Montréal
DESCRIPTION:
URL:https://www.a3quebec.com/evenement/f1-montreal/
LOCATION:Montréal\, Canada
END:VEVENT
BEGIN:VEVENT
DTSTART;VALUE=DATE:20260526
DTEND;VALUE=DATE:20260527
DTSTAMP:20260421T043711
CREATED:20260109T145158Z
LAST-MODIFIED:20260128T184032Z
UID:10000397-1779753600-1779839999@www.a3quebec.com
SUMMARY:Dégustation A3 - Produits estivaux
DESCRIPTION:
URL:https://www.a3quebec.com/evenement/degustation-de-presse-a3-produits-estivaux/
LOCATION:Montréal\, Canada
ORGANIZER;CN="A3 Qu%C3%A9bec":MAILTO:info@a3quebec.com
END:VEVENT
BEGIN:VEVENT
DTSTART;VALUE=DATE:20260527
DTEND;VALUE=DATE:20260528
DTSTAMP:20260421T043711
CREATED:20260115T215547Z
LAST-MODIFIED:20260115T215547Z
UID:10000400-1779840000-1779926399@www.a3quebec.com
SUMMARY:Blitz SAQ
DESCRIPTION:
URL:https://www.a3quebec.com/evenement/blitz-saq-4/
END:VEVENT
END:VCALENDAR